BEGIN:VCALENDAR
VERSION:2.0
PRODID:-//Opernhaus//NONSGML//EN
METHOD:PUBLISH
CLASS:PUBLIC
BEGIN:VEVENT
UID:179929569e6427e5beaf
DTSTART:20260503T091500Z
DTEND:20260503T103000Z
DTSTAMP:20260503T091500Z
CREATED:20260420T151302Z
LAST-MODIFIED:20260420T151302Z
SUMMARY:9th Chamber Concert
LOCATION:Opernhaus Zürich
URL:https://www.opernhaus.ch/en/spielplan/calendar/9-kammerkonzert/
SEQUENCE:0
STATUS:CONFIRMED
TRANSP:OPAQUE
END:VEVENT
END:VCALENDAR