BEGIN:VCALENDAR
VERSION:2.0
PRODID:-//Opernhaus//NONSGML//EN
METHOD:PUBLISH
CLASS:PUBLIC
BEGIN:VEVENT
UID:31358069e642f42fd98
DTSTART:20260502T170000Z
DTEND:20260502T193500Z
DTSTAMP:20260502T170000Z
CREATED:20260420T151500Z
LAST-MODIFIED:20260420T151500Z
SUMMARY:Scylla et Glaucus
DESCRIPTION:Opera by Jean-Marie Leclair
LOCATION:Opernhaus Zürich
URL:https://www.opernhaus.ch/en/spielplan/calendar/scylla-et-glaucus/
SEQUENCE:0
STATUS:CONFIRMED
TRANSP:OPAQUE
END:VEVENT
END:VCALENDAR