BEGIN:VCALENDAR
VERSION:2.0
PRODID:-//Opernhaus//NONSGML//EN
METHOD:PUBLISH
CLASS:PUBLIC
BEGIN:VEVENT
UID:43178569e62a0236602
DTSTART:20261025T190000Z
DTEND:20261025T210000Z
DTSTAMP:20261025T190000Z
CREATED:20260420T132834Z
LAST-MODIFIED:20260420T132834Z
SUMMARY:Ein Sommernachtstraum
DESCRIPTION:Ballet by Cathy Marston
LOCATION:Opernhaus Zürich
URL:https://www.opernhaus.ch/en/spielplan/calendar/ein-sommernachtstraum/
SEQUENCE:0
STATUS:CONFIRMED
TRANSP:OPAQUE
END:VEVENT
END:VCALENDAR