BEGIN:VCALENDAR
VERSION:2.0
PRODID:-//Opernhaus//NONSGML//EN
METHOD:PUBLISH
CLASS:PUBLIC
BEGIN:VEVENT
UID:110366669e6295f1cc8b
DTSTART:20261028T183000Z
DTEND:20261028T203000Z
DTSTAMP:20261028T183000Z
CREATED:20260420T132551Z
LAST-MODIFIED:20260420T132551Z
SUMMARY:Ein Sommernachtstraum
DESCRIPTION:Ballet by Cathy Marston
LOCATION:Opernhaus Zürich
URL:https://www.opernhaus.ch/en/spielplan/calendar/ein-sommernachtstraum/
SEQUENCE:0
STATUS:CONFIRMED
TRANSP:OPAQUE
END:VEVENT
END:VCALENDAR