BEGIN:VCALENDAR
VERSION:2.0
PRODID:-//Opernhaus//NONSGML//EN
METHOD:PUBLISH
CLASS:PUBLIC
BEGIN:VEVENT
UID:4799469e62985b6de5
DTSTART:20261027T180000Z
DTEND:20261027T210000Z
DTSTAMP:20261027T180000Z
CREATED:20260420T132629Z
LAST-MODIFIED:20260420T132629Z
SUMMARY:open space stimme
DESCRIPTION:Weekly choir workshop for all 16 years and older
LOCATION:Opernhaus Zürich
URL:https://www.opernhaus.ch/en/spielplan/calendar/open-space-stimme/
SEQUENCE:0
STATUS:CONFIRMED
TRANSP:OPAQUE
END:VEVENT
END:VCALENDAR