BEGIN:VCALENDAR
VERSION:2.0
PRODID:-//Opernhaus//NONSGML//EN
METHOD:PUBLISH
CLASS:PUBLIC
BEGIN:VEVENT
UID:204491569e627f8d3d4a
DTSTART:20261024T170000Z
DTEND:20261024T203000Z
DTSTAMP:20261024T170000Z
CREATED:20260420T131952Z
LAST-MODIFIED:20260420T131952Z
SUMMARY:Die Zauberflöte
DESCRIPTION:Opera by Wolfgang Amadeus Mozart
LOCATION:Opernhaus Zürich
URL:https://www.opernhaus.ch/en/spielplan/calendar/die-zauberfloete-1/
SEQUENCE:0
STATUS:CONFIRMED
TRANSP:OPAQUE
END:VEVENT
END:VCALENDAR