BEGIN:VCALENDAR
VERSION:2.0
PRODID:-//Opernhaus//NONSGML//EN
METHOD:PUBLISH
CLASS:PUBLIC
BEGIN:VEVENT
UID:56434569e6295f1e6db
DTSTART:20261024T093000Z
DTEND:20261024T123000Z
DTSTAMP:20261024T093000Z
CREATED:20260420T132551Z
LAST-MODIFIED:20260420T132551Z
SUMMARY:Preview «Rachmaninov - Die drei Opern»
LOCATION:Bernhard Theater
URL:https://www.opernhaus.ch/en/spielplan/calendar/preview-rachmaninov-die-drei-opern/
SEQUENCE:0
STATUS:CONFIRMED
TRANSP:OPAQUE
END:VEVENT
END:VCALENDAR