BEGIN:VCALENDAR
VERSION:2.0
PRODID:-//Opernhaus//NONSGML//EN
METHOD:PUBLISH
CLASS:PUBLIC
BEGIN:VEVENT
UID:98186669e60003c6894
DTSTART:20261106T080000Z
DTEND:20261106T110000Z
DTSTAMP:20261106T080000Z
CREATED:20260420T102923Z
LAST-MODIFIED:20260420T102923Z
SUMMARY:Schulworkshop «Alice im Wunderland»
LOCATION:Opernhaus Zürich
URL:https://www.opernhaus.ch/en/spielplan/calendar/schulworkshop-alice-im-wunderland/
SEQUENCE:0
STATUS:CONFIRMED
TRANSP:OPAQUE
END:VEVENT
END:VCALENDAR