BEGIN:VCALENDAR
VERSION:2.0
PRODID:-//Opernhaus//NONSGML//EN
METHOD:PUBLISH
CLASS:PUBLIC
BEGIN:VEVENT
UID:157765969e7e3ee61508
DTSTART:20260711T090000Z
DTEND:20260711T110000Z
DTSTAMP:20260711T090000Z
CREATED:20260421T205406Z
LAST-MODIFIED:20260421T205406Z
SUMMARY:Ballet School for Zurich Opera House
LOCATION:Opernhaus Zürich
URL:https://www.opernhaus.ch/en/spielplan/calendar/ballettschule-fuer-das-opernhaus-zuerich/
SEQUENCE:0
STATUS:CONFIRMED
TRANSP:OPAQUE
END:VEVENT
END:VCALENDAR