BEGIN:VCALENDAR
VERSION:2.0
PRODID:-//Opernhaus//NONSGML//EN
METHOD:PUBLISH
CLASS:PUBLIC
BEGIN:VEVENT
UID:16596169e7e464a84c3
DTSTART:20260712T163000Z
DTEND:20260712T200000Z
DTSTAMP:20260712T163000Z
CREATED:20260421T205604Z
LAST-MODIFIED:20260421T205604Z
SUMMARY:Così fan tutte
DESCRIPTION:Opera by Wolfgang Amadeus Mozart
LOCATION:Opernhaus Zürich
URL:https://www.opernhaus.ch/en/spielplan/calendar/cosi-fan-tutte-448/
SEQUENCE:0
STATUS:CONFIRMED
TRANSP:OPAQUE
END:VEVENT
END:VCALENDAR