BEGIN:VCALENDAR
VERSION:2.0
PRODID:-//Opernhaus//NONSGML//EN
METHOD:PUBLISH
CLASS:PUBLIC
BEGIN:VEVENT
UID:90200769e7e28da7c21
DTSTART:20260917T170000Z
DTEND:20260917T190000Z
DTSTAMP:20260917T170000Z
CREATED:20260421T204813Z
LAST-MODIFIED:20260421T204813Z
SUMMARY:ZURICH TALKS DANCE
DESCRIPTION:Discussion Series
LOCATION:Opernhaus Zürich
URL:https://www.opernhaus.ch/en/spielplan/calendar/zurich-talks-dance/
SEQUENCE:0
STATUS:CONFIRMED
TRANSP:OPAQUE
END:VEVENT
END:VCALENDAR