BEGIN:VCALENDAR
VERSION:2.0
PRODID:-//Opernhaus//NONSGML//EN
METHOD:PUBLISH
CLASS:PUBLIC
BEGIN:VEVENT
UID:209265269e7d8634110c
DTSTART:20261023T170000Z
DTEND:20261023T200000Z
DTSTAMP:20261023T170000Z
CREATED:20260421T200451Z
LAST-MODIFIED:20260421T200451Z
SUMMARY:Die Fledermaus
DESCRIPTION:Operetta by Johann Strauss
LOCATION:Opernhaus Zürich
URL:https://www.opernhaus.ch/en/spielplan/calendar/die-fledermaus-1/
SEQUENCE:0
STATUS:CONFIRMED
TRANSP:OPAQUE
END:VEVENT
END:VCALENDAR