BEGIN:VCALENDAR
VERSION:2.0
PRODID:-//Opernhaus//NONSGML//EN
METHOD:PUBLISH
CLASS:PUBLIC
BEGIN:VEVENT
UID:194133569e7d738d6b58
DTSTART:20261011T091500Z
DTEND:20261011T111500Z
DTSTAMP:20261011T091500Z
CREATED:20260421T195952Z
LAST-MODIFIED:20260421T195952Z
SUMMARY:2. Kammerkonzert
LOCATION:Opernhaus Zürich
URL:https://www.opernhaus.ch/en/spielplan/calendar/kammerkonzert-2/
SEQUENCE:0
STATUS:CONFIRMED
TRANSP:OPAQUE
END:VEVENT
END:VCALENDAR