BEGIN:VCALENDAR
VERSION:2.0
PRODID:-//Opernhaus//NONSGML//EN
METHOD:PUBLISH
CLASS:PUBLIC
BEGIN:VEVENT
UID:98931869e7d7395991a
DTSTART:20261012T170000Z
DTEND:20261012T190000Z
DTSTAMP:20261012T170000Z
CREATED:20260421T195953Z
LAST-MODIFIED:20260421T195953Z
SUMMARY:2. Kammerkonzert
LOCATION:Opernhaus Zürich
URL:https://www.opernhaus.ch/en/spielplan/calendar/kammerkonzert-2/
SEQUENCE:0
STATUS:CONFIRMED
TRANSP:OPAQUE
END:VEVENT
END:VCALENDAR