BEGIN:VCALENDAR
VERSION:2.0
PRODID:-//Opernhaus//NONSGML//EN
METHOD:PUBLISH
CLASS:PUBLIC
BEGIN:VEVENT
UID:137943669e7c789abd1d
DTSTART:20261107T180000Z
DTEND:20261107T195000Z
DTSTAMP:20261107T180000Z
CREATED:20260421T185257Z
LAST-MODIFIED:20260421T185257Z
SUMMARY:Gabetta & Noseda
DESCRIPTION:2th Philharmonic Concert / Prokofiev Cycle II
LOCATION:Opernhaus Zürich
URL:https://www.opernhaus.ch/en/spielplan/calendar/2-philharmonisches-konzert-1/
SEQUENCE:0
STATUS:CONFIRMED
TRANSP:OPAQUE
END:VEVENT
END:VCALENDAR