BEGIN:VCALENDAR
VERSION:2.0
PRODID:-//Opernhaus//NONSGML//EN
METHOD:PUBLISH
CLASS:PUBLIC
BEGIN:VEVENT
UID:6945669e7bcb2879b5
DTSTART:20261202T180000Z
DTEND:20261202T195000Z
DTSTAMP:20261202T180000Z
CREATED:20260421T180642Z
LAST-MODIFIED:20260421T180642Z
SUMMARY:Elektra
DESCRIPTION:Opera by Richard Strauss
LOCATION:Opernhaus Zürich
URL:https://www.opernhaus.ch/en/spielplan/calendar/elektra-1/
SEQUENCE:0
STATUS:CONFIRMED
TRANSP:OPAQUE
END:VEVENT
END:VCALENDAR