BEGIN:VCALENDAR
VERSION:2.0
PRODID:-//Opernhaus//NONSGML//EN
METHOD:PUBLISH
CLASS:PUBLIC
BEGIN:VEVENT
UID:175253869e7bc8d6f99a
DTSTART:20261125T180000Z
DTEND:20261125T200000Z
DTSTAMP:20261125T180000Z
CREATED:20260421T180605Z
LAST-MODIFIED:20260421T180605Z
SUMMARY:open space tanz
DESCRIPTION:Dance Workshop
LOCATION:Opernhaus Zürich
URL:https://www.opernhaus.ch/en/spielplan/calendar/open-space-tanz/
SEQUENCE:0
STATUS:CONFIRMED
TRANSP:OPAQUE
END:VEVENT
END:VCALENDAR