BEGIN:VCALENDAR
VERSION:2.0
PRODID:-//Opernhaus//NONSGML//EN
METHOD:PUBLISH
CLASS:PUBLIC
BEGIN:VEVENT
UID:41570169e7a1949153c
DTSTART:20261219T180000Z
DTEND:20261219T203000Z
DTSTAMP:20261219T180000Z
CREATED:20260421T161100Z
LAST-MODIFIED:20260421T161100Z
SUMMARY:Romeo und Julia
DESCRIPTION:Ballet by Cathy Marston
LOCATION:Opernhaus Zürich
URL:https://www.opernhaus.ch/en/spielplan/calendar/romeo-und-julia-1/
SEQUENCE:0
STATUS:CONFIRMED
TRANSP:OPAQUE
END:VEVENT
END:VCALENDAR