BEGIN:VCALENDAR
VERSION:2.0
PRODID:-//Opernhaus//NONSGML//EN
METHOD:PUBLISH
CLASS:PUBLIC
BEGIN:VEVENT
UID:19924269e7a1185ab85
DTSTART:20270106T130000Z
DTEND:20270106T150000Z
DTSTAMP:20270106T130000Z
CREATED:20260421T160856Z
LAST-MODIFIED:20260421T160856Z
SUMMARY:Klanglabor
DESCRIPTION:For children aged 8 and above
LOCATION:Opernhaus Zürich
URL:https://www.opernhaus.ch/en/spielplan/calendar/klanglabor/
SEQUENCE:0
STATUS:CONFIRMED
TRANSP:OPAQUE
END:VEVENT
END:VCALENDAR