BEGIN:VCALENDAR
VERSION:2.0
PRODID:-//Opernhaus//NONSGML//EN
METHOD:PUBLISH
CLASS:PUBLIC
BEGIN:VEVENT
UID:28742769e7a14f65cb7
DTSTART:20261223T190000Z
DTEND:20261223T214500Z
DTSTAMP:20261223T190000Z
CREATED:20260421T160951Z
LAST-MODIFIED:20260421T160951Z
SUMMARY:La traviata
DESCRIPTION:Opera by Giuseppe Verdi
LOCATION:Opernhaus Zürich
URL:https://www.opernhaus.ch/en/spielplan/calendar/la-traviata-1/
SEQUENCE:0
STATUS:CONFIRMED
TRANSP:OPAQUE
END:VEVENT
END:VCALENDAR