BEGIN:VCALENDAR
VERSION:2.0
PRODID:-//Opernhaus//NONSGML//EN
METHOD:PUBLISH
CLASS:PUBLIC
BEGIN:VEVENT
UID:189954869e7a1559bdbc
DTSTART:20261229T180000Z
DTEND:20261229T204500Z
DTSTAMP:20261229T180000Z
CREATED:20260421T160957Z
LAST-MODIFIED:20260421T160957Z
SUMMARY:La traviata
DESCRIPTION:Opera by Giuseppe Verdi
LOCATION:Opernhaus Zürich
URL:https://www.opernhaus.ch/en/spielplan/calendar/la-traviata-1/
SEQUENCE:0
STATUS:CONFIRMED
TRANSP:OPAQUE
END:VEVENT
END:VCALENDAR