BEGIN:VCALENDAR
VERSION:2.0
PRODID:-//Opernhaus//NONSGML//EN
METHOD:PUBLISH
CLASS:PUBLIC
BEGIN:VEVENT
UID:134703669e7852c14746
DTSTART:20270306T160000Z
DTEND:20270306T173000Z
DTSTAMP:20270306T160000Z
CREATED:20260421T140948Z
LAST-MODIFIED:20260421T140948Z
SUMMARY:Herr der Diebe
DESCRIPTION:Children’s opera by Marlena Kreßin\, Joanna Lohmann and Moritz Lieberherr
LOCATION:Opernhaus Zürich
URL:https://www.opernhaus.ch/en/spielplan/calendar/herr-der-diebe/
SEQUENCE:0
STATUS:CONFIRMED
TRANSP:OPAQUE
END:VEVENT
END:VCALENDAR