BEGIN:VCALENDAR
VERSION:2.0
PRODID:-//Opernhaus//NONSGML//EN
METHOD:PUBLISH
CLASS:PUBLIC
BEGIN:VEVENT
UID:129836269e78511d52da
DTSTART:20270307T170000Z
DTEND:20270307T183000Z
DTSTAMP:20270307T170000Z
CREATED:20260421T140921Z
LAST-MODIFIED:20260421T140921Z
SUMMARY:Herr der Diebe
DESCRIPTION:Children’s opera by Marlena Kreßin\, Joanna Lohmann and Moritz Lieberherr
LOCATION:Opernhaus Zürich
URL:https://www.opernhaus.ch/en/spielplan/calendar/herr-der-diebe/
SEQUENCE:0
STATUS:CONFIRMED
TRANSP:OPAQUE
END:VEVENT
END:VCALENDAR