BEGIN:VCALENDAR
VERSION:2.0
PRODID:-//Opernhaus//NONSGML//EN
METHOD:PUBLISH
CLASS:PUBLIC
BEGIN:VEVENT
UID:218568169e784ab26896
DTSTART:20270309T100000Z
DTEND:20270309T113000Z
DTSTAMP:20270309T100000Z
CREATED:20260421T140739Z
LAST-MODIFIED:20260421T140739Z
SUMMARY:Herr der Diebe
DESCRIPTION:Children’s opera by Marlena Kreßin\, Joanna Lohmann and Moritz Lieberherr
LOCATION:Opernhaus Zürich
URL:https://www.opernhaus.ch/en/spielplan/calendar/herr-der-diebe/
SEQUENCE:0
STATUS:CONFIRMED
TRANSP:OPAQUE
END:VEVENT
END:VCALENDAR