BEGIN:VCALENDAR
VERSION:2.0
PRODID:-//Opernhaus//NONSGML//EN
METHOD:PUBLISH
CLASS:PUBLIC
BEGIN:VEVENT
UID:160178869e784da205c6
DTSTART:20270307T120000Z
DTEND:20270307T144500Z
DTSTAMP:20270307T120000Z
CREATED:20260421T140826Z
LAST-MODIFIED:20260421T140826Z
SUMMARY:La fanciulla del west
DESCRIPTION:Opera by Giacomo Puccini
LOCATION:Opernhaus Zürich
URL:https://www.opernhaus.ch/en/spielplan/calendar/la-fanciulla-del-west-1/
SEQUENCE:0
STATUS:CONFIRMED
TRANSP:OPAQUE
END:VEVENT
END:VCALENDAR