BEGIN:VCALENDAR
VERSION:2.0
PRODID:-//Opernhaus//NONSGML//EN
METHOD:PUBLISH
CLASS:PUBLIC
BEGIN:VEVENT
UID:15838269e78443b4d46
DTSTART:20270305T183000Z
DTEND:20270305T212500Z
DTSTAMP:20270305T183000Z
CREATED:20260421T140555Z
LAST-MODIFIED:20260421T140555Z
SUMMARY:Roméo et Juliette
DESCRIPTION:Opera by Charles Gounod
LOCATION:Opernhaus Zürich
URL:https://www.opernhaus.ch/en/spielplan/calendar/romeo-et-juliette/
SEQUENCE:0
STATUS:CONFIRMED
TRANSP:OPAQUE
END:VEVENT
END:VCALENDAR