BEGIN:VCALENDAR
VERSION:2.0
PRODID:-//Opernhaus//NONSGML//EN
METHOD:PUBLISH
CLASS:PUBLIC
BEGIN:VEVENT
UID:47492869e785137e988
DTSTART:20270312T173000Z
DTEND:20270312T230000Z
DTSTAMP:20270312T173000Z
CREATED:20260421T140923Z
LAST-MODIFIED:20260421T140923Z
SUMMARY:Gastspiel Paris «Der Ring des Nibelungen»
LOCATION:Opernhaus Zürich
URL:https://www.opernhaus.ch/en/spielplan/calendar/gastspiel-paris-der-ring-des-nibelungen/
SEQUENCE:0
STATUS:CONFIRMED
TRANSP:OPAQUE
END:VEVENT
END:VCALENDAR