BEGIN:VCALENDAR
VERSION:2.0
PRODID:-//Opernhaus//NONSGML//EN
METHOD:PUBLISH
CLASS:PUBLIC
BEGIN:VEVENT
UID:107554169e786ac4af29
DTSTART:20270329T110000Z
DTEND:20270329T131000Z
DTSTAMP:20270329T110000Z
CREATED:20260421T141612Z
LAST-MODIFIED:20260421T141612Z
SUMMARY:Art Matters
DESCRIPTION:Choreographies by Aleix Martínez and Houston Thomas
LOCATION:Opernhaus Zürich
URL:https://www.opernhaus.ch/en/spielplan/calendar/juniorballett-1/
SEQUENCE:0
STATUS:CONFIRMED
TRANSP:OPAQUE
END:VEVENT
END:VCALENDAR