BEGIN:VCALENDAR
VERSION:2.0
PRODID:-//Opernhaus//NONSGML//EN
METHOD:PUBLISH
CLASS:PUBLIC
BEGIN:VEVENT
UID:161610569e786e591cfa
DTSTART:20270321T183000Z
DTEND:20270321T210500Z
DTSTAMP:20270321T183000Z
CREATED:20260421T141709Z
LAST-MODIFIED:20260421T141709Z
SUMMARY:La clemenza di Tito
DESCRIPTION:Opera by Wolfgang Amadeus Mozart
LOCATION:Opernhaus Zürich
URL:https://www.opernhaus.ch/en/spielplan/calendar/la-clemenza-di-tito-1/
SEQUENCE:0
STATUS:CONFIRMED
TRANSP:OPAQUE
END:VEVENT
END:VCALENDAR