BEGIN:VCALENDAR
VERSION:2.0
PRODID:-//Opernhaus//NONSGML//EN
METHOD:PUBLISH
CLASS:PUBLIC
BEGIN:VEVENT
UID:173432369e78681ba948
DTSTART:20270317T180000Z
DTEND:20270317T193000Z
DTSTAMP:20270317T180000Z
CREATED:20260421T141529Z
LAST-MODIFIED:20260421T141529Z
SUMMARY:c-Moll-Messe
LOCATION:Opernhaus Zürich
URL:https://www.opernhaus.ch/en/spielplan/calendar/c-moll-messe/
SEQUENCE:0
STATUS:CONFIRMED
TRANSP:OPAQUE
END:VEVENT
END:VCALENDAR