BEGIN:VCALENDAR
VERSION:2.0
PRODID:-//Opernhaus//NONSGML//EN
METHOD:PUBLISH
CLASS:PUBLIC
BEGIN:VEVENT
UID:227561969e786ac48237
DTSTART:20270319T170000Z
DTEND:20270319T200000Z
DTSTAMP:20270319T170000Z
CREATED:20260421T141612Z
LAST-MODIFIED:20260421T141612Z
SUMMARY:The Divine
LOCATION:Opernhaus Zürich
URL:https://www.opernhaus.ch/en/spielplan/calendar/the-divine/
SEQUENCE:0
STATUS:CONFIRMED
TRANSP:OPAQUE
END:VEVENT
END:VCALENDAR