BEGIN:VCALENDAR
VERSION:2.0
PRODID:-//Opernhaus//NONSGML//EN
METHOD:PUBLISH
CLASS:PUBLIC
BEGIN:VEVENT
UID:47164269e78533089d1
DTSTART:20270404T173000Z
DTEND:20270404T201500Z
DTSTAMP:20270404T173000Z
CREATED:20260421T140955Z
LAST-MODIFIED:20260421T140955Z
SUMMARY:La fanciulla del west
DESCRIPTION:Opera by Giacomo Puccini
LOCATION:Opernhaus Zürich
URL:https://www.opernhaus.ch/en/spielplan/calendar/la-fanciulla-del-west-1/
SEQUENCE:0
STATUS:CONFIRMED
TRANSP:OPAQUE
END:VEVENT
END:VCALENDAR