BEGIN:VCALENDAR
VERSION:2.0
PRODID:-//Opernhaus//NONSGML//EN
METHOD:PUBLISH
CLASS:PUBLIC
BEGIN:VEVENT
UID:153932069e7858248059
DTSTART:20270407T170000Z
DTEND:20270407T190000Z
DTSTAMP:20270407T170000Z
CREATED:20260421T141114Z
LAST-MODIFIED:20260421T141114Z
SUMMARY:open space tanz
DESCRIPTION:Dance Workshop
LOCATION:Opernhaus Zürich
URL:https://www.opernhaus.ch/en/spielplan/calendar/open-space-tanz/
SEQUENCE:0
STATUS:CONFIRMED
TRANSP:OPAQUE
END:VEVENT
END:VCALENDAR