BEGIN:VCALENDAR
VERSION:2.0
PRODID:-//Opernhaus//NONSGML//EN
METHOD:PUBLISH
CLASS:PUBLIC
BEGIN:VEVENT
UID:158153469e7852a02b76
DTSTART:20270414T170000Z
DTEND:20270414T193500Z
DTSTAMP:20270414T170000Z
CREATED:20260421T140946Z
LAST-MODIFIED:20260421T140946Z
SUMMARY:Tosca
DESCRIPTION:Opera by Giacomo Puccini
LOCATION:Opernhaus Zürich
URL:https://www.opernhaus.ch/en/spielplan/calendar/tosca/
SEQUENCE:0
STATUS:CONFIRMED
TRANSP:OPAQUE
END:VEVENT
END:VCALENDAR