BEGIN:VCALENDAR
VERSION:2.0
PRODID:-//Opernhaus//NONSGML//EN
METHOD:PUBLISH
CLASS:PUBLIC
BEGIN:VEVENT
UID:201026469e7841643a97
DTSTART:20270506T110000Z
DTEND:20270506T142500Z
DTSTAMP:20270506T110000Z
CREATED:20260421T140510Z
LAST-MODIFIED:20260421T140510Z
SUMMARY:Le nozze di Figaro
DESCRIPTION:Opera by Wolfgang Amadeus Mozart
LOCATION:Opernhaus Zürich
URL:https://www.opernhaus.ch/en/spielplan/calendar/le-nozze-di-figaro/
SEQUENCE:0
STATUS:CONFIRMED
TRANSP:OPAQUE
END:VEVENT
END:VCALENDAR