BEGIN:VCALENDAR
VERSION:2.0
PRODID:-//Opernhaus//NONSGML//EN
METHOD:PUBLISH
CLASS:PUBLIC
BEGIN:VEVENT
UID:149906969e78db6bf8d6
DTSTART:20270529T173000Z
DTEND:20270529T203000Z
DTSTAMP:20270529T173000Z
CREATED:20260421T144614Z
LAST-MODIFIED:20260421T144614Z
SUMMARY:Viotti
DESCRIPTION:6th Philharmonic Concert
LOCATION:Opernhaus Zürich
URL:https://www.opernhaus.ch/en/spielplan/calendar/6-philharmonisches-konzert-1/
SEQUENCE:0
STATUS:CONFIRMED
TRANSP:OPAQUE
END:VEVENT
END:VCALENDAR