BEGIN:VCALENDAR
VERSION:2.0
PRODID:-//Opernhaus//NONSGML//EN
METHOD:PUBLISH
CLASS:PUBLIC
BEGIN:VEVENT
UID:75573569e78c414e241
DTSTART:20270602T120000Z
DTEND:20270602T140000Z
DTSTAMP:20270602T120000Z
CREATED:20260421T144001Z
LAST-MODIFIED:20260421T144001Z
SUMMARY:Klanglabor
DESCRIPTION:For children aged 8 and above
LOCATION:Opernhaus Zürich
URL:https://www.opernhaus.ch/en/spielplan/calendar/klanglabor/
SEQUENCE:0
STATUS:CONFIRMED
TRANSP:OPAQUE
END:VEVENT
END:VCALENDAR