BEGIN:VCALENDAR
VERSION:2.0
PRODID:-//Opernhaus//NONSGML//EN
METHOD:PUBLISH
CLASS:PUBLIC
BEGIN:VEVENT
UID:143014769e7835b9cee0
DTSTART:20270607T170000Z
DTEND:20270607T190000Z
DTSTAMP:20270607T170000Z
CREATED:20260421T140203Z
LAST-MODIFIED:20260421T140203Z
SUMMARY:9. Kammerkonzert
LOCATION:Opernhaus Zürich
URL:https://www.opernhaus.ch/en/spielplan/calendar/kammerkonzert-9/
SEQUENCE:0
STATUS:CONFIRMED
TRANSP:OPAQUE
END:VEVENT
END:VCALENDAR