BEGIN:VCALENDAR
VERSION:2.0
PRODID:-//Opernhaus//NONSGML//EN
METHOD:PUBLISH
CLASS:PUBLIC
BEGIN:VEVENT
UID:59469769e7838a85043
DTSTART:20270607T090000Z
DTEND:20270607T103000Z
DTSTAMP:20270607T090000Z
CREATED:20260421T140250Z
LAST-MODIFIED:20260421T140250Z
SUMMARY:Concert Kinderopernorchester
DESCRIPTION:For schools and families (8+)
LOCATION:Opernhaus Zürich
URL:https://www.opernhaus.ch/en/spielplan/calendar/kinderopernorchester/
SEQUENCE:0
STATUS:CONFIRMED
TRANSP:OPAQUE
END:VEVENT
END:VCALENDAR