BEGIN:VCALENDAR
VERSION:2.0
PRODID:-//Opernhaus//NONSGML//EN
METHOD:PUBLISH
CLASS:PUBLIC
BEGIN:VEVENT
UID:182928469e7835b23a8e
DTSTART:20270610T081500Z
DTEND:20270610T091500Z
DTSTAMP:20270610T081500Z
CREATED:20260421T140203Z
LAST-MODIFIED:20260421T140203Z
SUMMARY:Musikgeschichten "Heidi\, Gian & Giachen: Auf zum Gipfel des Schwarzhorns"
LOCATION:Opernhaus Zürich
URL:https://www.opernhaus.ch/en/spielplan/calendar/musikgeschichten-heidi-gian-giachen/
SEQUENCE:0
STATUS:CONFIRMED
TRANSP:OPAQUE
END:VEVENT
END:VCALENDAR