BEGIN:VCALENDAR
VERSION:2.0
PRODID:-//Opernhaus//NONSGML//EN
METHOD:PUBLISH
CLASS:PUBLIC
BEGIN:VEVENT
UID:199287769e783b328803
DTSTART:20270620T180000Z
DTEND:20270620T200000Z
DTSTAMP:20270620T180000Z
CREATED:20260421T140331Z
LAST-MODIFIED:20260421T140331Z
SUMMARY:Hotel Hunger
DESCRIPTION:Fantasie in einem Akt
LOCATION:Opernhaus Zürich
URL:https://www.opernhaus.ch/en/spielplan/calendar/hotel-hunger/
SEQUENCE:0
STATUS:CONFIRMED
TRANSP:OPAQUE
END:VEVENT
END:VCALENDAR