BEGIN:VCALENDAR
VERSION:2.0
PRODID:-//Opernhaus//NONSGML//EN
METHOD:PUBLISH
CLASS:PUBLIC
BEGIN:VEVENT
UID:267105669eccb8864711
DTSTART:20270310T173000Z
DTEND:20270310T223000Z
DTSTAMP:20270310T173000Z
CREATED:20260425T141120Z
LAST-MODIFIED:20260425T141120Z
SUMMARY:Gastspiel Paris «Der Ring des Nibelungen»
LOCATION:Opernhaus Zürich
URL:https://www.opernhaus.ch/en/spielplan/calendar/gastspiel-paris-der-ring-des-nibelungen/
SEQUENCE:0
STATUS:CONFIRMED
TRANSP:OPAQUE
END:VEVENT
END:VCALENDAR