BEGIN:VCALENDAR
VERSION:2.0
PRODID:-//Opernhaus//NONSGML//EN
METHOD:PUBLISH
CLASS:PUBLIC
BEGIN:VEVENT
UID:103833069e61518898bf
DTSTART:20260327T180000Z
DTEND:20260327T203500Z
DTSTAMP:20260327T180000Z
CREATED:20260420T115920Z
LAST-MODIFIED:20260420T115920Z
SUMMARY:Scylla et Glaucus
DESCRIPTION:Opera by Jean-Marie Leclair
LOCATION:Opernhaus Zürich
URL:https://www.opernhaus.ch/en/spielplan/calendar/scylla-et-glaucus/
SEQUENCE:0
STATUS:CONFIRMED
TRANSP:OPAQUE
END:VEVENT
END:VCALENDAR