BEGIN:VCALENDAR
VERSION:2.0
PRODID:-//Opernhaus//NONSGML//EN
METHOD:PUBLISH
CLASS:PUBLIC
BEGIN:VEVENT
UID:112334469e8951a01611
DTSTART:20260530T130000Z
DTEND:20260530T140000Z
DTSTAMP:20260530T130000Z
CREATED:20260422T093002Z
LAST-MODIFIED:20260422T093002Z
SUMMARY:Guided Tour Opera House
LOCATION:Opernhaus Zürich
URL:https://www.opernhaus.ch/en/spielplan/calendar/backstage-tour/
SEQUENCE:0
STATUS:CONFIRMED
TRANSP:OPAQUE
END:VEVENT
END:VCALENDAR