BEGIN:VCALENDAR
VERSION:2.0
PRODID:-//Opernhaus//NONSGML//EN
METHOD:PUBLISH
CLASS:PUBLIC
BEGIN:VEVENT
UID:186101469e82ec393495
DTSTART:20260607T110000Z
DTEND:20260607T135000Z
DTSTAMP:20260607T110000Z
CREATED:20260422T021323Z
LAST-MODIFIED:20260422T021323Z
SUMMARY:Un ballo in Maschera
DESCRIPTION:Opera by Giuseppe Verdi
LOCATION:Opernhaus Zürich
URL:https://www.opernhaus.ch/en/spielplan/calendar/un-ballo-in-maschera/
SEQUENCE:0
STATUS:CONFIRMED
TRANSP:OPAQUE
END:VEVENT
END:VCALENDAR