BEGIN:VCALENDAR
VERSION:2.0
PRODID:-//Opernhaus//NONSGML//EN
METHOD:PUBLISH
CLASS:PUBLIC
BEGIN:VEVENT
UID:54891869e844150a9f1
DTSTART:20260701T180000Z
DTEND:20260701T204500Z
DTSTAMP:20260701T180000Z
CREATED:20260422T034421Z
LAST-MODIFIED:20260422T034421Z
SUMMARY:Werther
DESCRIPTION:Opera by Jules Massenet
LOCATION:Opernhaus Zürich
URL:https://www.opernhaus.ch/en/spielplan/calendar/werther/
SEQUENCE:0
STATUS:CONFIRMED
TRANSP:OPAQUE
END:VEVENT
END:VCALENDAR