BEGIN:VCALENDAR
VERSION:2.0
PRODID:-//Opernhaus//NONSGML//EN
METHOD:PUBLISH
CLASS:PUBLIC
BEGIN:VEVENT
UID:55282169e844afd48da
DTSTART:20260624T133000Z
DTEND:20260624T143000Z
DTSTAMP:20260624T133000Z
CREATED:20260422T034655Z
LAST-MODIFIED:20260422T034655Z
SUMMARY:Guided Tour Opera House for Families (GER)
LOCATION:Opernhaus Zürich
URL:https://www.opernhaus.ch/en/spielplan/calendar/familienfuehrung-ohz/
SEQUENCE:0
STATUS:CONFIRMED
TRANSP:OPAQUE
END:VEVENT
END:VCALENDAR