BEGIN:VCALENDAR
VERSION:2.0
PRODID:-//Opernhaus//NONSGML//EN
METHOD:PUBLISH
CLASS:PUBLIC
BEGIN:VEVENT
UID:11900769e8467cd61a3
DTSTART:20260627T091500Z
DTEND:20260627T101500Z
DTSTAMP:20260627T091500Z
CREATED:20260422T035436Z
LAST-MODIFIED:20260422T035436Z
SUMMARY:Guided Tour Opera House (GER)
LOCATION:Opernhaus Zürich
URL:https://www.opernhaus.ch/en/spielplan/calendar/fuehrung_opernhaus/
SEQUENCE:0
STATUS:CONFIRMED
TRANSP:OPAQUE
END:VEVENT
END:VCALENDAR