BEGIN:VCALENDAR
VERSION:2.0
PRODID:-//Opernhaus//NONSGML//EN
METHOD:PUBLISH
CLASS:PUBLIC
BEGIN:VEVENT
UID:23790969e8441588422
DTSTART:20260628T130000Z
DTEND:20260628T140000Z
DTSTAMP:20260628T130000Z
CREATED:20260422T034421Z
LAST-MODIFIED:20260422T034421Z
SUMMARY:Guided Tour Opera House
LOCATION:Opernhaus Zürich
URL:https://www.opernhaus.ch/en/spielplan/calendar/backstage-tour/
SEQUENCE:0
STATUS:CONFIRMED
TRANSP:OPAQUE
END:VEVENT
END:VCALENDAR