BEGIN:VCALENDAR
VERSION:2.0
PRODID:-//Opernhaus//NONSGML//EN
METHOD:PUBLISH
CLASS:PUBLIC
BEGIN:VEVENT
UID:110975569e845550b869
DTSTART:20260626T170000Z
DTEND:20260626T183000Z
DTSTAMP:20260626T170000Z
CREATED:20260422T034941Z
LAST-MODIFIED:20260422T034941Z
SUMMARY:Opernhaus für alle
LOCATION:Opernhaus Zürich
URL:https://www.opernhaus.ch/en/spielplan/calendar/opernhaus-fuer-alle/
SEQUENCE:0
STATUS:CONFIRMED
TRANSP:OPAQUE
END:VEVENT
END:VCALENDAR